BEGIN:VCALENDAR
VERSION:2.0
PRODID:spatie/icalendar-generator
DESCRIPTION:Events from Kocaeli Sanayi Odası
X-WR-CALDESC:Events from Kocaeli Sanayi Odası
REFRESH-INTERVAL;VALUE=DURATION:PT1440M
X-PUBLISHED-TTL:PT1440M
BEGIN:VTIMEZONE
TZID:Etc/GMT-3
BEGIN:STANDARD
DTSTART:20200919T000000Z
TZOFFSETFROM:+0300
TZOFFSETTO:+0300
END:STANDARD
END:VTIMEZONE
BEGIN:VTIMEZONE
TZID:UTC
BEGIN:STANDARD
DTSTART:20250725T085816Z
TZOFFSETFROM:+0000
TZOFFSETTO:+0000
END:STANDARD
END:VTIMEZONE
BEGIN:VEVENT
UID:264-264
DTSTAMP:20260421T085816Z
SUMMARY:Meclis Toplantısı
LOCATION:
ORGANIZER;CN=Aynur:MAILTO:aynur@kosano.org.tr
DTSTART;TZID=Etc/GMT-3;VALUE=DATE:20210616
DTEND;TZID=Etc/GMT-3;VALUE=DATE:20210617
X-ALT-DESC;FMTTYPE=TEXT/HTML:
CATEGORIES:General
URL;VALUE=URI:https://kosano.org.tr/egitimwebinar/?mc_id=264&#038;vcal=264
METHOD:PUBLISH
END:VEVENT
END:VCALENDAR