BEGIN:VCALENDAR
VERSION:2.0
PRODID:spatie/icalendar-generator
DESCRIPTION:Events from Kocaeli Sanayi Odası
X-WR-CALDESC:Events from Kocaeli Sanayi Odası
REFRESH-INTERVAL;VALUE=DURATION:PT1440M
X-PUBLISHED-TTL:PT1440M
BEGIN:VTIMEZONE
TZID:Etc/GMT-3
BEGIN:STANDARD
DTSTART:20231015T093000Z
TZOFFSETFROM:+0300
TZOFFSETTO:+0300
END:STANDARD
END:VTIMEZONE
BEGIN:VTIMEZONE
TZID:UTC
BEGIN:STANDARD
DTSTART:20250728T050221Z
TZOFFSETFROM:+0000
TZOFFSETTO:+0000
END:STANDARD
END:VTIMEZONE
BEGIN:VEVENT
UID:495-478
DTSTAMP:20260424T050221Z
SUMMARY:Ekonomi ve Hukuk Buluşmaları
LOCATION:
ORGANIZER;CN=Bahar Cesur:MAILTO:bahar@kosano.org.tr
DTSTART;TZID=Etc/GMT-3:20240711T093000
DTEND;TZID=Etc/GMT-3:20240711T113000
X-ALT-DESC;FMTTYPE=TEXT/HTML:Odamız\, Daha İyi Yargı Derneği ve Ekonomi
  Gazetesi iş birliği ile Ekonomi Gazetesi Genel Koordinatörü Vahap Mun
 yar’ın moderatörlüğünde\, “Ekonomi ve Hukuk Buluşmaları” konu
 lu panel 11 Temmuz 2024 Perşembe günü saat 10.00’da\, Kocaeli Sanayi 
 Odası Merkez Binası Konferans Salonu’nda fiziki olarak düzenlenecekti
 r.
CATEGORIES:Eğitim, Seminer &amp; Webinar
URL;VALUE=URI:https://kosano.org.tr/egitimwebinar/?mc_id=495&#038;vcal=495
METHOD:PUBLISH
END:VEVENT
END:VCALENDAR