BEGIN:VCALENDAR
VERSION:2.0
PRODID:spatie/icalendar-generator
DESCRIPTION:Events from Kocaeli Sanayi Odası
X-WR-CALDESC:Events from Kocaeli Sanayi Odası
REFRESH-INTERVAL;VALUE=DURATION:PT1440M
X-PUBLISHED-TTL:PT1440M
BEGIN:VTIMEZONE
TZID:Etc/GMT-3
BEGIN:STANDARD
DTSTART:20250726T100000Z
TZOFFSETFROM:+0300
TZOFFSETTO:+0300
END:STANDARD
END:VTIMEZONE
BEGIN:VTIMEZONE
TZID:UTC
BEGIN:STANDARD
DTSTART:20250726T135659Z
TZOFFSETFROM:+0000
TZOFFSETTO:+0000
END:STANDARD
END:VTIMEZONE
BEGIN:VEVENT
UID:571-545
DTSTAMP:20260422T135659Z
SUMMARY:KSO Nisan Ayı Meclis Toplantısı
LOCATION:
ORGANIZER;CN=Bahar Cesur:MAILTO:bahar@kosano.org.tr
DTSTART;TZID=Etc/GMT-3:20260422T100000
DTEND;TZID=Etc/GMT-3:20260422T123000
X-ALT-DESC;FMTTYPE=TEXT/HTML:
CATEGORIES:Eğitim, Seminer &amp; Webinar
URL;VALUE=URI:https://kosano.org.tr/egitimwebinar/?mc_id=571&#038;vcal=571
METHOD:PUBLISH
END:VEVENT
END:VCALENDAR